BEGIN:VCALENDAR
VERSION:2.0
PRODID:-//eventon.com NONSGML v1.0//EN
CALSCALE:GREGORIAN
METHOD:PUBLISH
BEGIN:VEVENT
UID:69e74eae4d873
DTSTAMP:20260421T101718Z
DTSTART:20241017T220000Z
DTEND:20241018T020000Z
LOCATION:
SUMMARY:MICHALE GRAVES and the american monster band
DESCRIPTION:\nhttps://metaleterno.com/events/michale-graves-and-the-america
 n-monster-band/
URL:https://metaleterno.com/events/michale-graves-and-the-american-monster-band/
END:VEVENT
END:VCALENDAR